BEGIN:VCALENDAR
VERSION:2.0
PRODID:-//Rede Portuguesa de Clubes para a UNESCO - ECPv6.15.12.2//NONSGML v1.0//EN
CALSCALE:GREGORIAN
METHOD:PUBLISH
X-WR-CALNAME:Rede Portuguesa de Clubes para a UNESCO
X-ORIGINAL-URL:https://www.rpcu.pt
X-WR-CALDESC:Eventos para Rede Portuguesa de Clubes para a UNESCO
REFRESH-INTERVAL;VALUE=DURATION:PT1H
X-Robots-Tag:noindex
X-PUBLISHED-TTL:PT1H
BEGIN:VTIMEZONE
TZID:UTC
BEGIN:STANDARD
TZOFFSETFROM:+0000
TZOFFSETTO:+0000
TZNAME:UTC
DTSTART:20200101T000000
END:STANDARD
END:VTIMEZONE
BEGIN:VEVENT
DTSTART;TZID=UTC:20211105T183000
DTEND;TZID=UTC:20211105T193000
DTSTAMP:20260420T101227
CREATED:20211102T152959Z
LAST-MODIFIED:20211102T152959Z
UID:13344-1636137000-1636140600@www.rpcu.pt
SUMMARY:Livro Viagem a Portugal de José Saramago é apresentado no CCA
DESCRIPTION:
URL:https://www.rpcu.pt/evento/livro-viagem-a-portugal-de-jose-saramago-e-apresentado-no-cca/
LOCATION:CCA – Centro Cultural de Amarante\, Rua Nova 112 S. Gonçalo\, Amarante\, Amarante\, 4600-093\, Portugal
CATEGORIES:Apresentação de Livro
ATTACH;FMTTYPE=image/png:https://www.rpcu.pt/wp-content/uploads/2021/11/convite-digital-final-Viagem-a-Portugal.png
END:VEVENT
BEGIN:VEVENT
DTSTART;TZID=UTC:20211117T180000
DTEND;TZID=UTC:20211117T183000
DTSTAMP:20260420T101227
CREATED:20211115T220801Z
LAST-MODIFIED:20211115T220801Z
UID:13366-1637172000-1637173800@www.rpcu.pt
SUMMARY:Concerto Comentado "Viva o século XX" com Elsa Carballa
DESCRIPTION:
URL:https://www.rpcu.pt/evento/concerto-comentado-viva-o-seculo-xx-com-elsa-carballa/
LOCATION:Lisboa
CATEGORIES:Concertros
ATTACH;FMTTYPE=image/jpeg:https://www.rpcu.pt/wp-content/uploads/2021/11/Viva-o-Século-XX-2-scaled-1.jpg
END:VEVENT
BEGIN:VEVENT
DTSTART;TZID=UTC:20211120T210000
DTEND;TZID=UTC:20211120T220000
DTSTAMP:20260420T101227
CREATED:20211115T221121Z
LAST-MODIFIED:20211115T221121Z
UID:13368-1637442000-1637445600@www.rpcu.pt
SUMMARY:CPCJ de Amarante promove Espetáculo solidário no CCA
DESCRIPTION:
URL:https://www.rpcu.pt/evento/cpcj-de-amarante-promove-espetaculo-solidario-no-cca/
LOCATION:Lisboa
CATEGORIES:Espetáculos
ATTACH;FMTTYPE=image/png:https://www.rpcu.pt/wp-content/uploads/2021/11/CONCERTO-SILDÁRIO.png
END:VEVENT
END:VCALENDAR