BEGIN:VCALENDAR
VERSION:2.0
PRODID:-//Rede Portuguesa de Clubes para a UNESCO - ECPv6.15.12.2//NONSGML v1.0//EN
CALSCALE:GREGORIAN
METHOD:PUBLISH
X-ORIGINAL-URL:https://www.rpcu.pt
X-WR-CALDESC:Eventos para Rede Portuguesa de Clubes para a UNESCO
REFRESH-INTERVAL;VALUE=DURATION:PT1H
X-Robots-Tag:noindex
X-PUBLISHED-TTL:PT1H
BEGIN:VTIMEZONE
TZID:UTC
BEGIN:STANDARD
TZOFFSETFROM:+0000
TZOFFSETTO:+0000
TZNAME:UTC
DTSTART:20250101T000000
END:STANDARD
END:VTIMEZONE
BEGIN:VEVENT
DTSTART;TZID=UTC:20260411T213000
DTEND;TZID=UTC:20260411T223000
DTSTAMP:20260423T224735
CREATED:20260410T161311Z
LAST-MODIFIED:20260410T161419Z
UID:16676-1775943000-1775946600@www.rpcu.pt
SUMMARY:"Cambedo 1946" do Teatro de Balugas no THALIA
DESCRIPTION:Este sábado\, dia 11 de abril\, pelas 21h30\, a nova peça do Teatro de Balugas\, “Cambedo 1946”\, sobe ao palco do THALIA – X Festival de Teatro do Grémio. Trata-se do primeiro espetáculo da segunda trilogia da companhia barcelense\, com texto e encenação de Cândido Sobreiro. \nA nova obra retrata a aldeia raiana de Cambedo que\, em 1946\, foi cercada por forças repressivas de ambas as ditaduras ibéricas e bombardeada com morteiros. O resultado foi gente morta\, ferida e presa. Sobre o assunto caiu um ignominioso silêncio\, o que se passou foi obscurecido e deturpado pelos fascismos ibéricos durante décadas. \nAtravés do teatro físico\, o trabalho é um espetáculo narrativo\, utilizando a linguagem do corpo\, sonoridades e elementos visuais como extensão dessa narrativa\, para contar a história de uma fronteira que não impediu a solidariedade de dois povos\, mas também não conteve um ataque militar concertado por Portugal e Espanha. \nBilhetes disponiveis em: https://www.ticketline.pt/…/cambedo-1946-x-thalia-102113
URL:https://www.rpcu.pt/evento/cambedo-1946-do-teatro-de-balugas-no-thalia-x-festival-de-teatro-do-gremio/
LOCATION:Espaço Cultural Fernando Augusto\, Rua 5 de Outubro 29 a 31\, 2625-105 Póvoa de Santa Iria\, Póvoa de Santa Iria\, Portugal
CATEGORIES:Espetáculos,Festival
ATTACH;FMTTYPE=image/jpeg:https://www.rpcu.pt/wp-content/uploads/2026/04/THALIA_Cambedo-1946_Teatro-de-Balugas.jpg
END:VEVENT
BEGIN:VEVENT
DTSTART;TZID=UTC:20260417T193000
DTEND;TZID=UTC:20260417T210000
DTSTAMP:20260423T224735
CREATED:20260412T230049Z
LAST-MODIFIED:20260412T231235Z
UID:16682-1776454200-1776459600@www.rpcu.pt
SUMMARY:LIDERANÇA JOVEM NO DESPORTO: CAMINHOS PARA UMA BOA GOVERNANÇA
DESCRIPTION:A sessão do Panathlon Clube de Lisboa subordinada ao tema “LIDERANÇA JOVEM NO DESPORTO: CAMINHOS PARA UMA BOA GOVERNANÇA”\, reunindo um painel diversificado para refletir sobre o papel das novas gerações na liderança das organizações desportivas. Esta iniciativa constitui uma oportunidade para debater desafios concretos\, partilhar experiências e reforçar a importância de princípios como a ética\, a transparência e a responsabilidade\, fundamentais para uma governança mais participada e sustentável no desporto. \nA realização desta sessão nas instalações do Clube Recreativo Leões de Porto Salvo assume particular relevância\, dada a sua afirmação como entidade de referência no desenvolvimento desportivo\, com forte intervenção social e inclusiva. O alto patrocínio do seu Presidente\, Jorge Delgado\, que assegurará a moderação do debate\, reforça o prestígio e a qualidade deste encontro\, promovendo um espaço de diálogo qualificado entre diferentes agentes do setor.
URL:https://www.rpcu.pt/evento/lideranca-jovem-no-desporto-caminhos-para-uma-boa-governanca/
LOCATION:Clube Recreativo Leões de Porto Salvo\, Rua Basílio Teles\, 2 e 4\, Porto Salvo\, Lisboa\, 2740-025
CATEGORIES:Mesa Redonda e Debate
ATTACH;FMTTYPE=image/jpeg:https://www.rpcu.pt/wp-content/uploads/2026/04/CARTAZ-17-ABRIL.jpg
ORGANIZER;CN="Panathlon Clube de Lisboa":MAILTO:pcl@panathlonlisboa.pt
END:VEVENT
END:VCALENDAR