BEGIN:VCALENDAR
VERSION:2.0
PRODID:-//Rede Portuguesa de Clubes para a UNESCO - ECPv6.15.12.2//NONSGML v1.0//EN
CALSCALE:GREGORIAN
METHOD:PUBLISH
X-WR-CALNAME:Rede Portuguesa de Clubes para a UNESCO
X-ORIGINAL-URL:https://www.rpcu.pt
X-WR-CALDESC:Eventos para Rede Portuguesa de Clubes para a UNESCO
REFRESH-INTERVAL;VALUE=DURATION:PT1H
X-Robots-Tag:noindex
X-PUBLISHED-TTL:PT1H
BEGIN:VTIMEZONE
TZID:UTC
BEGIN:STANDARD
TZOFFSETFROM:+0000
TZOFFSETTO:+0000
TZNAME:UTC
DTSTART:20240101T000000
END:STANDARD
END:VTIMEZONE
BEGIN:VEVENT
DTSTART;TZID=UTC:20260111T170000
DTEND;TZID=UTC:20260111T170000
DTSTAMP:20260423T124211
CREATED:20251226T164251Z
LAST-MODIFIED:20251226T165737Z
UID:16444-1768150800-1768150800@www.rpcu.pt
SUMMARY:Anabela & Orquestra Portuguesa de Guitarras e Bandolins | Concerto Reis | Gondomar
DESCRIPTION:Muitos felizes por divulgar os dois concertos de Reis com a incrível 𝗔𝗻𝗮𝗯𝗲𝗹𝗮!\n\n\nJuntem-se a nós nos dias:\n\n\n\n𝟏𝟎 𝐝𝐞 𝐉𝐚𝐧𝐞𝐢𝐫𝐨\, pelas 𝟏𝟕𝐡\, no 𝐏𝐨𝐧𝐭𝐨 𝐂\, em 𝐏𝐞𝐧𝐚𝐟𝐢𝐞𝐥\n\n\n𝟏𝟏 𝐝𝐞 𝐉𝐚𝐧𝐞𝐢𝐫𝐨\, pelas 𝟏𝟕𝐡\, no 𝐌𝐮𝐥𝐭𝐢𝐮𝐬𝐨𝐬 𝐝𝐞 𝐆𝐨𝐧𝐝𝐨𝐦𝐚𝐫\n\n\nBilhetes disponíveis em:\n\n\nhttps://www.ticketline.pt/…/concerto-de-reis-anabela….
URL:https://www.rpcu.pt/evento/anabela-orquestra-portuguesa-de-guitarras-e-bandolins-concerto-reis-gondomar/
LOCATION:Multiusos de Gondomar\, Av. Multiusos\, 4420-015 Gondomar\, Gondomar\, Porto\, 4420-015\, Portugal
CATEGORIES:Concertos
ATTACH;FMTTYPE=image/jpeg:https://www.rpcu.pt/wp-content/uploads/2025/12/Cartaz-Gondomar.jpg
ORGANIZER;CN="Associa%C3%A7%C3%A3o Cultural de Plectro":MAILTO:geral@acplectro.com
END:VEVENT
BEGIN:VEVENT
DTSTART;TZID=UTC:20260110T170000
DTEND;TZID=UTC:20260110T170000
DTSTAMP:20260423T124211
CREATED:20251226T165322Z
LAST-MODIFIED:20251226T165723Z
UID:16448-1768064400-1768064400@www.rpcu.pt
SUMMARY:Anabela & Orquestra Portuguesa de Guitarras e Bandolins | Concerto Reis | Penafiel
DESCRIPTION:Muitos felizes por divulgar os dois concertos de Reis com a incrível 𝗔𝗻𝗮𝗯𝗲𝗹𝗮!\n\n\nJuntem-se a nós nos dias:\n\n\n\n𝟏𝟎 𝐝𝐞 𝐉𝐚𝐧𝐞𝐢𝐫𝐨\, pelas 𝟏𝟕𝐡\, no 𝐏𝐨𝐧𝐭𝐨 𝐂\, em 𝐏𝐞𝐧𝐚𝐟𝐢𝐞𝐥\n\n\n𝟏𝟏 𝐝𝐞 𝐉𝐚𝐧𝐞𝐢𝐫𝐨\, pelas 𝟏𝟕𝐡\, no 𝐌𝐮𝐥𝐭𝐢𝐮𝐬𝐨𝐬 𝐝𝐞 𝐆𝐨𝐧𝐝𝐨𝐦𝐚𝐫\n\n\nBilhetes disponíveis em:\n\n\nhttps://www.bol.pt/…/167851-concerto_de_reis_opgb_com…/
URL:https://www.rpcu.pt/evento/anabela-orquestra-portuguesa-de-guitarras-e-bandolins-concerto-reis-penafiel/
LOCATION:Ponto C – Cultura e Criatividade\, R. de Puços 606\, 4560-623 Penafiel\, Penafiel\, Porto\, 4560-623\, Portugal
CATEGORIES:Concertos
ATTACH;FMTTYPE=image/jpeg:https://www.rpcu.pt/wp-content/uploads/2025/12/Cartaz-Penafiel.jpg
ORGANIZER;CN="Associa%C3%A7%C3%A3o Cultural de Plectro":MAILTO:geral@acplectro.com
END:VEVENT
BEGIN:VEVENT
DTSTART;TZID=UTC:20250720T180000
DTEND;TZID=UTC:20250720T180000
DTSTAMP:20260423T124211
CREATED:20250714T092434Z
LAST-MODIFIED:20250714T092434Z
UID:15626-1753034400-1753034400@www.rpcu.pt
SUMMARY:OPGB convida Ricardo Ribeiro | Teatro Ribeiro Conceição | Lamego
DESCRIPTION:A Orquestra Portuguesa de Guitarras e Bandolins orgulha-se de anunciar uma pequena 𝐝𝐢𝐠𝐫𝐞𝐬𝐬ã𝐨 com o 𝐟𝐚𝐧𝐭á𝐬𝐭𝐢𝐜𝐨 𝐑𝐢𝐜𝐚𝐫𝐝𝐨 𝐑𝐢𝐛𝐞𝐢𝐫𝐨. \nCom uma voz que nos faz encarar a vida e a morte num só fôlego\, Ricardo Ribeiro continua a marcar o seu caminho num meio-termo 𝐞𝐧𝐭𝐫𝐞 𝐨 𝐟𝐚𝐝𝐨 𝐭𝐫𝐚𝐝𝐢𝐜𝐢𝐨𝐧𝐚𝐥 𝐞 𝐨 𝐟𝐮𝐭𝐮𝐫𝐨 𝐝𝐨 𝐞𝐬𝐭𝐢𝐥𝐨 e será uma honra tê-lo connosco nos dias: \n𝟏𝟖 𝐝𝐞 𝐉𝐮𝐥𝐡𝐨 na 𝐏𝐫𝐚ç𝐚 𝐝𝐚𝐬 𝐄𝐢𝐫𝐚𝐬 (Macedo de Cavaleiros) \n𝟏𝟗 𝐝𝐞 𝐉𝐮𝐥𝐡𝐨 na 𝐂𝐚𝐬𝐚 𝐝𝐚 𝐌ú𝐬𝐢𝐜𝐚 (Porto) \n𝟐𝟎 𝐝𝐞 𝐉𝐮𝐥𝐡𝐨 no 𝐓𝐞𝐚𝐭𝐫𝐨 𝐑𝐢𝐛𝐞𝐢𝐫𝐨 𝐂𝐨𝐧𝐜𝐞𝐢çã𝐨 (Lamego) \nUm sincero agradecimento a todos os 𝐀𝐩𝐨𝐢𝐨𝐬 𝐈𝐧𝐬𝐭𝐢𝐭𝐮𝐜𝐢𝐨𝐧𝐚𝐢𝐬\, 𝐏𝐚𝐫𝐜𝐞𝐢𝐫𝐨𝐬 e 𝐌𝐮𝐧𝐢𝐜í𝐩𝐢𝐨𝐬 envolvidos. Obrigado a todos os que sempre nos acompanham e vibram com a OPGB.
URL:https://www.rpcu.pt/evento/opgb-convida-ricardo-ribeiro-teatro-ribeiro-conceicao-lamego/
LOCATION:Teatro Ribeiro Conceição\, Lamego\, Largo de Camões\, 5100-155 Lamego\, Lamego\, Viseu\, 5100-155\, Portugal
CATEGORIES:Concertos
ORGANIZER;CN="Associa%C3%A7%C3%A3o Cultural de Plectro":MAILTO:geral@acplectro.com
END:VEVENT
BEGIN:VEVENT
DTSTART;TZID=UTC:20250719T180000
DTEND;TZID=UTC:20250719T180000
DTSTAMP:20260423T124211
CREATED:20250714T092242Z
LAST-MODIFIED:20250714T092242Z
UID:15622-1752948000-1752948000@www.rpcu.pt
SUMMARY:OPGB convida Ricardo Ribeiro | Casa da Música
DESCRIPTION:A Orquestra Portuguesa de Guitarras e Bandolins orgulha-se de anunciar uma pequena 𝐝𝐢𝐠𝐫𝐞𝐬𝐬ã𝐨 com o 𝐟𝐚𝐧𝐭á𝐬𝐭𝐢𝐜𝐨 𝐑𝐢𝐜𝐚𝐫𝐝𝐨 𝐑𝐢𝐛𝐞𝐢𝐫𝐨. \nCom uma voz que nos faz encarar a vida e a morte num só fôlego\, Ricardo Ribeiro continua a marcar o seu caminho num meio-termo 𝐞𝐧𝐭𝐫𝐞 𝐨 𝐟𝐚𝐝𝐨 𝐭𝐫𝐚𝐝𝐢𝐜𝐢𝐨𝐧𝐚𝐥 𝐞 𝐨 𝐟𝐮𝐭𝐮𝐫𝐨 𝐝𝐨 𝐞𝐬𝐭𝐢𝐥𝐨 e será uma honra tê-lo connosco nos dias: \n𝟏𝟖 𝐝𝐞 𝐉𝐮𝐥𝐡𝐨 na 𝐏𝐫𝐚ç𝐚 𝐝𝐚𝐬 𝐄𝐢𝐫𝐚𝐬 (Macedo de Cavaleiros) \n𝟏𝟗 𝐝𝐞 𝐉𝐮𝐥𝐡𝐨 na 𝐂𝐚𝐬𝐚 𝐝𝐚 𝐌ú𝐬𝐢𝐜𝐚 (Porto) \n𝟐𝟎 𝐝𝐞 𝐉𝐮𝐥𝐡𝐨 no 𝐓𝐞𝐚𝐭𝐫𝐨 𝐑𝐢𝐛𝐞𝐢𝐫𝐨 𝐂𝐨𝐧𝐜𝐞𝐢çã𝐨 (Lamego) \nUm sincero agradecimento a todos os 𝐀𝐩𝐨𝐢𝐨𝐬 𝐈𝐧𝐬𝐭𝐢𝐭𝐮𝐜𝐢𝐨𝐧𝐚𝐢𝐬\, 𝐏𝐚𝐫𝐜𝐞𝐢𝐫𝐨𝐬 e 𝐌𝐮𝐧𝐢𝐜í𝐩𝐢𝐨𝐬 envolvidos. Obrigado a todos os que sempre nos acompanham e vibram com a OPGB.
URL:https://www.rpcu.pt/evento/opgb-convida-ricardo-ribeiro-casa-da-musica/
LOCATION:Casa da Música\, Casa da Música\, Porto\, Porto\, 4149-071\, Portugal
CATEGORIES:Concertos
ORGANIZER;CN="Associa%C3%A7%C3%A3o Cultural de Plectro":MAILTO:geral@acplectro.com
END:VEVENT
BEGIN:VEVENT
DTSTART;TZID=UTC:20250718T213000
DTEND;TZID=UTC:20250718T223000
DTSTAMP:20260423T124211
CREATED:20250714T091913Z
LAST-MODIFIED:20250714T091913Z
UID:15617-1752874200-1752877800@www.rpcu.pt
SUMMARY:OPGB convida Ricardo Ribeiro | Praça das Eiras | Macedo de Cavaleiros
DESCRIPTION:A Orquestra Portuguesa de Guitarras e Bandolins orgulha-se de anunciar uma pequena 𝐝𝐢𝐠𝐫𝐞𝐬𝐬ã𝐨 com o 𝐟𝐚𝐧𝐭á𝐬𝐭𝐢𝐜𝐨 𝐑𝐢𝐜𝐚𝐫𝐝𝐨 𝐑𝐢𝐛𝐞𝐢𝐫𝐨. \nCom uma voz que nos faz encarar a vida e a morte num só fôlego\, Ricardo Ribeiro continua a marcar o seu caminho num meio-termo 𝐞𝐧𝐭𝐫𝐞 𝐨 𝐟𝐚𝐝𝐨 𝐭𝐫𝐚𝐝𝐢𝐜𝐢𝐨𝐧𝐚𝐥 𝐞 𝐨 𝐟𝐮𝐭𝐮𝐫𝐨 𝐝𝐨 𝐞𝐬𝐭𝐢𝐥𝐨 e será uma honra tê-lo connosco nos dias: \n𝟏𝟖 𝐝𝐞 𝐉𝐮𝐥𝐡𝐨 na 𝐏𝐫𝐚ç𝐚 𝐝𝐚𝐬 𝐄𝐢𝐫𝐚𝐬 (Macedo de Cavaleiros) \n𝟏𝟗 𝐝𝐞 𝐉𝐮𝐥𝐡𝐨 na 𝐂𝐚𝐬𝐚 𝐝𝐚 𝐌ú𝐬𝐢𝐜𝐚 (Porto) \n𝟐𝟎 𝐝𝐞 𝐉𝐮𝐥𝐡𝐨 no 𝐓𝐞𝐚𝐭𝐫𝐨 𝐑𝐢𝐛𝐞𝐢𝐫𝐨 𝐂𝐨𝐧𝐜𝐞𝐢çã𝐨 (Lamego) \nUm sincero agradecimento a todos os 𝐀𝐩𝐨𝐢𝐨𝐬 𝐈𝐧𝐬𝐭𝐢𝐭𝐮𝐜𝐢𝐨𝐧𝐚𝐢𝐬\, 𝐏𝐚𝐫𝐜𝐞𝐢𝐫𝐨𝐬 e 𝐌𝐮𝐧𝐢𝐜í𝐩𝐢𝐨𝐬 envolvidos. Obrigado a todos os que sempre nos acompanham e vibram com a OPGB.
URL:https://www.rpcu.pt/evento/opgb-convida-ricardo-ribeiro-praca-das-eiras-macedo-de-cavaleiros/
LOCATION:Praça das Eiras\, Praça das Eiras\, Macedo de Cavaleiros\, Bragança\, 5340-271\, Portugal
CATEGORIES:Concertos
ORGANIZER;CN="Associa%C3%A7%C3%A3o Cultural de Plectro":MAILTO:geral@acplectro.com
END:VEVENT
BEGIN:VEVENT
DTSTART;TZID=UTC:20250511T160000
DTEND;TZID=UTC:20250511T170000
DTSTAMP:20260423T124211
CREATED:20250505T104149Z
LAST-MODIFIED:20250505T104149Z
UID:15297-1746979200-1746982800@www.rpcu.pt
SUMMARY:OPGB | Temporada Nova Música | Estreia “FIOS”
DESCRIPTION:NOVA MÚSICA\n\n \n\nA Orquestra Portuguesa de Guitarras e Bandolins apresenta\, em 2025\, um novo projeto\, que consiste na criação de 𝐜𝐢𝐧𝐜𝐨 𝐨𝐛𝐫𝐚𝐬 𝐨𝐫𝐢𝐠𝐢𝐧𝐚𝐢𝐬 para orquestra de plectro\, por cinco compositores portugueses:\n\n \n\nÂ𝐧𝐠𝐞𝐥𝐚 𝐝𝐚 𝐏𝐨𝐧𝐭𝐞\n\n \n\n𝐅á𝐭𝐢𝐦𝐚 𝐅𝐨𝐧𝐭𝐞\n\n \n\n𝐏𝐞𝐝𝐫𝐨 𝐇𝐞𝐧𝐫𝐢𝐪𝐮𝐞𝐬 𝐝𝐚 𝐒𝐢𝐥𝐯𝐚\n\n \n\n𝐇𝐮𝐠𝐨 𝐕𝐚𝐬𝐜𝐨 𝐑𝐞𝐢𝐬\n\n \n\n𝐉𝐨𝐬é 𝐂𝐚𝐫𝐥𝐨𝐬 𝐒𝐨𝐮𝐬𝐚\n\n \n\n“𝐅𝐈𝐎𝐒”\, do compositor 𝐇𝐮𝐠𝐨 𝐕𝐚𝐬𝐜𝐨 𝐑𝐞𝐢𝐬\, tem estreia marcada para o próximo dia 𝟏𝟏 𝐝𝐞 𝐌𝐚𝐢𝐨\, pelas 𝟏𝟔:𝟎𝟎\, no 𝐐𝐮𝐚𝐫𝐭𝐞𝐥 𝐝𝐚𝐬 𝐀𝐫𝐭𝐞𝐬\, em Oliveira do Bairro\, sob a direção do Maestro 𝐀𝐮𝐠𝐮𝐬𝐭𝐨 𝐏𝐚𝐜𝐡𝐞𝐜𝐨.\n\n \n\nOs bilhetes podem ser adquiridos através deste link: https://ticketline.sapo.pt/…/sessao/113900_2639_1746975600\n\n \n\n“𝐅𝐈𝐎𝐒 refere-se aos fios utilizados no artesanato de teares. Fios que outrora produziram sons\, ruídos e artefatos\, agora\, devido a mecanização\, são fragmentos de silêncio e memória em extinção.\n\n \n\nDe forma a preservar e documentar estas sonoridades\, fiz uma gravação de campo em Oleiros\, num antigo espaço dedicado ao artesanato de teares. Ali\, uma senhora\, antiga trabalhador de teares e já reformada\, soube que eu gostaria de gravar esses sons para a minha pesquisa e prática artística\, e teve a gentileza de realizar o seu antigo trabalho durante cerca de uma hora. Enquanto gravava\, contemplava e envolvia-me com os sons\, e ao mesmo tempo\, tentava entender a relação humana com os agentes sónicos desse trabalho.\n\n \n\nO processo de criação desta obra envolve múltiplos parâmetros\, como vozes independentes\, estratificação\, repetição não linear\, variações de sincronização e não sincronização\, apenas para referir alguns\, os quais dão forma à obra. Num olhar em grande escala\, apresentam-se dois blocos de sons paradoxais e pequenos fragmentos que geram uma aparente homogeneidade\, que\, no entanto\, não se verifica numa análise mais atenta\, encontrando-se padrões caóticos\, criados por variações mínimas e aleatórias.\n\n \n\nDe alguma forma considero que no final da peça\, esta poderia voltar ao princípio e entrar num ciclo infinito\, tal como o fabrico destes artefactos. Penso nisto como uma metáfora baseada na forma como experienciei estes trabalhos\, os quais em última análise\, são relações paradoxas de acontecimentos simultâneos.\n\n \n\nAssim\, esta obra é o resultado da mediação das gravações de campo dos artefactos de teares para instrumentos acústicos\, que\, através da metáfora e correlação\, tenta apresentar e preservar a memória sonora para além da sua extinção.”\n\n \n\n– Hugo Vasco Reis\n\n \n\nContamos com a Vossa presença.\n\n \n\nAté já\,\n\n \n\nOPGB
URL:https://www.rpcu.pt/evento/opgb-temporada-nova-musica-estreia-fios/
LOCATION:Quartel das Artes\, Quartel das Artes Dr. Alípio Sol\, Oliveira do Bairro\, Aveiro\, 3770-851\, Portugal
CATEGORIES:Concertos
ATTACH;FMTTYPE=image/jpeg:https://www.rpcu.pt/wp-content/uploads/2025/05/image00001.jpeg
ORGANIZER;CN="Associa%C3%A7%C3%A3o Cultural de Plectro":MAILTO:geral@acplectro.com
END:VEVENT
BEGIN:VEVENT
DTSTART;TZID=UTC:20250412T213000
DTEND;TZID=UTC:20250412T223000
DTSTAMP:20260423T124211
CREATED:20250412T114815Z
LAST-MODIFIED:20250412T114815Z
UID:15237-1744493400-1744497000@www.rpcu.pt
SUMMARY:OPGB | Temporada Nova Música | Estreia "𝐏𝐀𝐍𝐆Æ𝐀"
DESCRIPTION:A Orquestra Portuguesa de Guitarras e Bandolins apresenta\, em 2025\, um novo projeto\, que consiste na criação de cinco obras originais para orquestra de plectro\, por cinco compositores portugueses:\n\n \n\n 	Ângela da Ponte\n \n 	Fátima Fonte\n \n 	Pedro Henrique da Silva\n \n 	Hugo Vasco Reis\n \n 	José Carlos Sousa\n\n \n\n“𝐏𝐀𝐍𝐆Æ𝐀”\, do compositor 𝐏𝐞𝐝𝐫𝐨 𝐇𝐞𝐧𝐫𝐢𝐪𝐮𝐞𝐬 𝐝𝐚 𝐒𝐢𝐥𝐯𝐚\, tem estreia marcada para o próximo dia 𝟏𝟐 𝐝𝐞 𝐀𝐛𝐫𝐢𝐥\, pelas 𝟐𝟏𝐡𝟑𝟎\, no 𝐂𝐢𝐧𝐭𝐞𝐚𝐭𝐫𝐨 𝐀𝐧𝐭ó𝐧𝐢𝐨 𝐋𝐚𝐦𝐨𝐬𝐨\, em Santa Maria da Feira\, sob a direção do nosso Maestro Titular 𝐇é𝐥𝐝𝐞𝐫 𝐌𝐚𝐠𝐚𝐥𝐡ã𝐞𝐬.\nEste concerto contará com os solistas 𝐏𝐞𝐝𝐫𝐨 𝐇𝐞𝐧𝐫𝐢𝐪𝐮𝐞𝐬 𝐝𝐚 𝐒𝐢𝐥𝐯𝐚 (guitarra portuguesa)\, 𝐀𝐧𝐚𝐛𝐞𝐥𝐚 𝐀𝐫𝐚ú𝐣𝐨 (saxofone) e 𝐌𝐚𝐧𝐮𝐞𝐥 𝐌𝐨𝐮𝐫𝐚 (clarinete).\n\n \n\nOs bilhetes podem ser adquiridos através deste link: Bilhetes Orquestra Portuguesa de Guitarras e Bandolins – Cineteatro António Lamoso\n\n \n\n𝐏𝐀𝐍𝐆Æ𝐀 (Pangeia) é uma obra que evoca a união que existia quando havia um único supercontinente na Terra e a fragmentação que ocorreu ao longo do tempo. É um comentário e uma reação àquilo que vivemos no início do século XXI\, um período marcado por uma crescente divisão política e social.\nAs relações entre as diversas escalas e modos musicais utilizados na peça são a base da sua construção\, pois a simbologia das conexões entre essas escalas reflete os temas de união e fragmentação.\nA guitarra portuguesa assume o papel de solista\, e em alguns instantes a obra pode assemelhar-se a um concerto para o instrumento. No entanto\, há vários outros momentos em que a guitarra portuguesa é apenas mais um integrante da orquestra. Muitas das técnicas utilizadas não são tradicionais para o instrumento — foram inspiradas na guitarra clássica\, no bandolim e incluem o uso de um arco eletrónico (EBow) no segundo andamento. Essas escolhas foram feitas para representar melhor as ideias da obra.\nContamos com a Vossa presença.\nAté já\,\nOPGB\nAPOIO: DGARTES
URL:https://www.rpcu.pt/evento/opgb-temporada-nova-musica-estreia-%f0%9d%90%8f%f0%9d%90%80%f0%9d%90%8d%f0%9d%90%86ae%f0%9d%90%80/
LOCATION:Cineteatro António Lamoso\, Cineteatro António Lamoso\, Santa Maria da Feira\, Porto\, 4524-244\, Portugal
CATEGORIES:Concertos
ATTACH;FMTTYPE=image/jpeg:https://www.rpcu.pt/wp-content/uploads/2025/04/CARTAZ_3_REDES.jpg
ORGANIZER;CN="Associa%C3%A7%C3%A3o Cultural de Plectro":MAILTO:geral@acplectro.com
END:VEVENT
BEGIN:VEVENT
DTSTART;TZID=UTC:20250323T170000
DTEND;TZID=UTC:20250323T180000
DTSTAMP:20260423T124211
CREATED:20250319T144406Z
LAST-MODIFIED:20250319T144406Z
UID:15112-1742749200-1742752800@www.rpcu.pt
SUMMARY:OPGB | Temporada Nova Música | Estreia 'Salema'
DESCRIPTION:“𝑺𝑨𝑳𝑬𝑴𝑨”\, da compositora Fátima Fonte\, tem estreia marcada para o próximo dia 𝟐𝟑 𝐝𝐞 𝐌𝐚𝐫ç𝐨\, pelas 𝟏𝟕𝐡\, no Teatro Helena Sá e Costa\, no Porto\, sob a direção do nosso Maestro Titular Hélder Magalhães.\n\n \n\nO bilhete tem o valor de €5 e as reservas deverão ser feitas diretamente no THSC\, em dias úteis\, das 10h00 às 12h30 e das 14h00 às 17h00. A bilheteira\, em dias de espetáculo\, abre duas horas antes.\n\n \n\n“𝑺𝑨𝑳𝑬𝑴𝑨”: O som para esta peça começou por ser imaginado como um entrelaçamento de melodias e ornamentos num ambiente modal. Embora não contenha uma referência a uma tradição musical específica\, acena à música de raiz melódica – incluindo aqui música ocidental do passado\, e também a que se encontra mais a oriente. O nome Salema – de uma pequena vila piscatória do Algarve – aponta para este olhar ao longe\, porventura entrevendo contornos de lugares distantes. – Fátima Fonte.\n\n \n\nA Orquestra Portuguesa de Guitarras e Bandolins aposta no seu reportório trabalhar com músicos associados a vários géneros musicais\, designadamente o Fado\, Pop Nacional\, World Music ou compositores eruditos.
URL:https://www.rpcu.pt/evento/opgb-temporada-nova-musica-estreia-salema/
LOCATION:Teatro Helena Sá e Costa\, Teatro Helena Sá e Costa / Antiga Escola Normal\, Porto\, Porto\, 4000-045\, Portugal
CATEGORIES:Concertos
ATTACH;FMTTYPE=image/jpeg:https://www.rpcu.pt/wp-content/uploads/2025/03/CARTAZ_2_REDES_V1.jpg
ORGANIZER;CN="Associa%C3%A7%C3%A3o Cultural de Plectro":MAILTO:geral@acplectro.com
END:VEVENT
BEGIN:VEVENT
DTSTART;TZID=UTC:20250209T160000
DTEND;TZID=UTC:20250209T170000
DTSTAMP:20260423T124211
CREATED:20250128T101859Z
LAST-MODIFIED:20250128T101859Z
UID:14396-1739116800-1739120400@www.rpcu.pt
SUMMARY:OPGB | Projeto Nova Música | Estreia ‘String Theory’
DESCRIPTION:A Orquestra Portuguesa de Guitarras e Bandolins (OPGB) apresenta habitualmente um repertório baseado em obras originais e transcrições. Possuidora de uma sonoridade e estilo únicos\, aliados a um rigor interpretativo\, a OPGB é uma das melhores orquestras europeias da atualidade.\nO Teatro Ribeiro Conceição será um dos palcos escolhidos para a apresentação do projeto NOVA MÚSICA\, apoiado pela Direção Geral das Artes. Neste concerto\, além de outras composições do seu repertório habitual\, distinguimos a estreia mundial\, no TRC\, da obra STRING THEORY da compositora Ângela da Ponte\, uma das cinco obras em estreia da temporada. \nString Theory \n‘’ Muitos físicos acreditam que as partículas fundamentais do universo são cordas vibrantes\, cujas oscilações dão origem a tudo o que conhecemos. Na teoria das cordas (string theory)\, o universo é tecido por dimensões ocultas e padrões harmónicos que ultrapassam os limites da nossa percepção. Inspirada por esse conceito\, e atendendo ao desafio proposto pela OPGB\, esta peça transporta a teoria das cordas para um universo sonoro\, onde múltiplas ressonâncias emergem da interação dinâmica entre grupos instrumentais e componente eletrónica\, criando um cosmos musical e imersivo’’\npor Ângela da Ponte \nMaestro | Fernando Marinho\nDireção Artística | António de Sousa Vieira\nInterpretação | Orquestra Portuguesa de Guitarras e Bandolins \nReserve o seu bilhete:\nhttps://ticketline.sapo.pt/evento/orquestra-portuguesa-de-guitarras-e-bandoli-89992
URL:https://www.rpcu.pt/evento/opgb-projeto-nova-musica-estreia-string-theory/
LOCATION:Teatro Ribeiro Conceição\, Lamego\, Largo de Camões\, 5100-155 Lamego\, Lamego\, Viseu\, 5100-155\, Portugal
CATEGORIES:Concertos
ORGANIZER;CN="Associa%C3%A7%C3%A3o Cultural de Plectro":MAILTO:geral@acplectro.com
END:VEVENT
END:VCALENDAR