BEGIN:VCALENDAR
VERSION:2.0
PRODID:-//Rede Portuguesa de Clubes para a UNESCO - ECPv6.15.12.2//NONSGML v1.0//EN
CALSCALE:GREGORIAN
METHOD:PUBLISH
X-ORIGINAL-URL:https://www.rpcu.pt
X-WR-CALDESC:Eventos para Rede Portuguesa de Clubes para a UNESCO
REFRESH-INTERVAL;VALUE=DURATION:PT1H
X-Robots-Tag:noindex
X-PUBLISHED-TTL:PT1H
BEGIN:VTIMEZONE
TZID:UTC
BEGIN:STANDARD
TZOFFSETFROM:+0000
TZOFFSETTO:+0000
TZNAME:UTC
DTSTART:20240101T000000
END:STANDARD
END:VTIMEZONE
BEGIN:VEVENT
DTSTART;TZID=UTC:20251107T193000
DTEND;TZID=UTC:20251107T230000
DTSTAMP:20260419T214043
CREATED:20251010T095605Z
LAST-MODIFIED:20251010T095914Z
UID:16005-1762543800-1762556400@www.rpcu.pt
SUMMARY:5ª Edição "Jantar com Amália" - Luiz da Rocha | O Alentejano
DESCRIPTION:O fado foi inscrito em 2011 na lista de Património Cultural Imaterial pela UNESCO e o Município de Beja\, desde 2021\, que o celebra\, transformando alguns restaurantes do Centro Histórico em casas de fado por um dia.\nEste ano\, nos dias 07\, 14 e 21 de novembro chega-nos a 5ª edição o do projeto Jantar com Amália\, que celebra em simultâneo a vida e obra da grande senhora do fado que é Amália Rodrigues.\nReserve já o seu lugar no que prometem ser serões musicais inesquecíveis.\n \n– \n+info.\nClube UNESCO de Beja\nTelf.: 284 311 818\nE-mail: centro.unesco.beja@cm-beja.pt\n\nPara marcações\, contactar os restaurantes aderentes.\n  \n 
URL:https://www.rpcu.pt/evento/5a-edicao-jantar-com-amalia-luiz-da-rocha-o-alentejano/
LOCATION:Beja\, Beja\, Portugal
CATEGORIES:Exposição
ATTACH;FMTTYPE=image/jpeg:https://www.rpcu.pt/wp-content/uploads/2025/10/amalia-cnu2-01-scaled.jpg
END:VEVENT
END:VCALENDAR