BEGIN:VCALENDAR
VERSION:2.0
PRODID:-//Rede Portuguesa de Clubes para a UNESCO - ECPv6.15.12.2//NONSGML v1.0//EN
CALSCALE:GREGORIAN
METHOD:PUBLISH
X-WR-CALNAME:Rede Portuguesa de Clubes para a UNESCO
X-ORIGINAL-URL:https://www.rpcu.pt
X-WR-CALDESC:Eventos para Rede Portuguesa de Clubes para a UNESCO
REFRESH-INTERVAL;VALUE=DURATION:PT1H
X-Robots-Tag:noindex
X-PUBLISHED-TTL:PT1H
BEGIN:VTIMEZONE
TZID:UTC
BEGIN:STANDARD
TZOFFSETFROM:+0000
TZOFFSETTO:+0000
TZNAME:UTC
DTSTART:20240101T000000
END:STANDARD
END:VTIMEZONE
BEGIN:VEVENT
DTSTART;TZID=UTC:20250228T180000
DTEND;TZID=UTC:20250412T200000
DTSTAMP:20260420T073241
CREATED:20250205T162114Z
LAST-MODIFIED:20250205T175259Z
UID:14733-1740765600-1744488000@www.rpcu.pt
SUMMARY:Exposição de pintura "Olhares"\, de João Sardica
DESCRIPTION:O Clube para a UNESCO de Beja acolhe\, entre 21 de fevereiro e 12 de abril de 2025\, a exposição “Olhares”\, do aguarelista autodidata João Sardica. Esta mostra representa uma viagem visual pela arquitetura e história do Alentejo\, através da sensibilidade e técnica da aguarela. \nJoão Sardica\, aposentado\, dedicou grande parte da sua vida profissional à Administração Pública\, na área dos comportamentos aditivos e dependências\, tendo assumido responsabilidades a nível distrital e regional. Paralelamente\, esteve envolvido em ações de voluntariado em instituições de solidariedade social. \nA paixão pela pintura sempre o acompanhou\, embora de forma intermitente\, inicialmente explorando o óleo sobre tela e mais tarde a aguarela. Durante algum tempo\, partilhou experiências e conhecimentos com artistas como o escultor Manuel Rosa e o saudoso Leonel Borrela\, no atelier do pintor Carlos Montes\, onde se criava um verdadeiro ambiente de tertúlia sobre artes plásticas. \nNos últimos anos\, João Sardica reencontrou-se com a aguarela e com a sua capacidade de transmitir emoções para além da mera representação formal. A transparência das cores e a interação entre o pigmento e o vazio do papel são elementos essenciais que conferem luz e profundidade às suas obras. \n“Olhares” é um conjunto de pinturas que captam lugares\, recantos e detalhes arquitetónicos do património alentejano\, refletindo o profundo amor do artista pela história da região. Para além do seu percurso na pintura\, João Sardica tem também publicados alguns trabalhos de arqueologia\, o que se reflete na escolha dos temas que retrata. \nEsta exposição representa também um marco pessoal\, sendo a primeira vez que o artista aceita expor os seus trabalhos publicamente\, após diversos incentivos e\, sobretudo\, pelo convite da Câmara Municipal de Beja para apresentar a sua obra no Centro UNESCO. \nAbertura da exposição: 21 de fevereiro | 18H00 | Clube para a UNESCO de Beja
URL:https://www.rpcu.pt/evento/exposicao-de-pintura-olhares-de-joao-sardica/
LOCATION:Clube para a UNESCO de Beja
CATEGORIES:Exposição
ATTACH;FMTTYPE=image/png:https://www.rpcu.pt/wp-content/uploads/2025/02/21_02_OLHARES_destaque.png
END:VEVENT
END:VCALENDAR