BEGIN:VCALENDAR
VERSION:2.0
PRODID:-//Rede Portuguesa de Clubes para a UNESCO - ECPv6.15.12.2//NONSGML v1.0//EN
CALSCALE:GREGORIAN
METHOD:PUBLISH
X-WR-CALNAME:Rede Portuguesa de Clubes para a UNESCO
X-ORIGINAL-URL:https://www.rpcu.pt
X-WR-CALDESC:Eventos para Rede Portuguesa de Clubes para a UNESCO
REFRESH-INTERVAL;VALUE=DURATION:PT1H
X-Robots-Tag:noindex
X-PUBLISHED-TTL:PT1H
BEGIN:VTIMEZONE
TZID:UTC
BEGIN:STANDARD
TZOFFSETFROM:+0000
TZOFFSETTO:+0000
TZNAME:UTC
DTSTART:20240101T000000
END:STANDARD
END:VTIMEZONE
BEGIN:VEVENT
DTSTART;TZID=UTC:20251018T213000
DTEND;TZID=UTC:20251018T223000
DTSTAMP:20260420T133034
CREATED:20251017T094101Z
LAST-MODIFIED:20251017T094105Z
UID:16092-1760823000-1760826600@www.rpcu.pt
SUMMARY:“A Furgoneta” do Teatro de Balugas no festival FAFENCENA
DESCRIPTION:Este sábado\, pelas 21h30\, o festival FAFENCENA recebe no Teatro Cinema de Fafe a peça «A Furgoneta» do Teatro de Balugas\, espetáculo premiado internacionalmente e com apresentações em Portugal\, Espanha\, Itália\, Hungria e Eslováquia. \nO trabalho\, com texto e encenação de Cândido Sobreiro é sobre a história de Romão e do irmão que decidem reformar o negócio do pai\, homem com milhares de quilómetros feitos pelas aldeias do Minho. Mas agora o negócio é outro: a furgoneta que vendia tudo e mais alguma coisa\, até a compra de uma simples faca\, que dava para estonar batatas e cortar o pescoço ao frango\, já não é feita da mesma maneira! Confrontados com um modo de vida que está a chegar ao fim entre os últimos fregueses e os velhos vendedores ambulantes\, os dois irmãos veem-se divididos entre o progresso tecnológico e os que ainda resistem nas aldeias\, à espera da buzina estridente e dois dedos de conversa.\nura\nA organização do certame é do Teatro Vitrine e os bilhetes estão disponíveis na secretaria do Grupo Nun’Álvares.
URL:https://www.rpcu.pt/evento/a-furgoneta-do-teatro-de-balugas-no-festival-fafencena/
LOCATION:Teatro Cinema de Fafe\, Fafe\, Portugal
CATEGORIES:Espetáculos,Festival
ATTACH;FMTTYPE=image/jpeg:https://www.rpcu.pt/wp-content/uploads/2025/10/A-Furgoneta_Teatro-de-Balugas_FAFENCENA.jpg
END:VEVENT
END:VCALENDAR