BEGIN:VCALENDAR
VERSION:2.0
PRODID:-//Rede Portuguesa de Clubes para a UNESCO - ECPv6.15.12.2//NONSGML v1.0//EN
CALSCALE:GREGORIAN
METHOD:PUBLISH
X-WR-CALNAME:Rede Portuguesa de Clubes para a UNESCO
X-ORIGINAL-URL:https://www.rpcu.pt
X-WR-CALDESC:Eventos para Rede Portuguesa de Clubes para a UNESCO
REFRESH-INTERVAL;VALUE=DURATION:PT1H
X-Robots-Tag:noindex
X-PUBLISHED-TTL:PT1H
BEGIN:VTIMEZONE
TZID:UTC
BEGIN:STANDARD
TZOFFSETFROM:+0000
TZOFFSETTO:+0000
TZNAME:UTC
DTSTART:20240101T000000
END:STANDARD
END:VTIMEZONE
BEGIN:VEVENT
DTSTART;TZID=UTC:20251001T210000
DTEND;TZID=UTC:20251001T223000
DTSTAMP:20260420T133035
CREATED:20250411T150134Z
LAST-MODIFIED:20250925T093504Z
UID:15233-1759352400-1759357800@www.rpcu.pt
SUMMARY:Eterno Feminino
DESCRIPTION:Clube UNESCO de Beja | 01 setembro’25 | 21H00 | 5€* \n“Das profundezas das estrelas às flores luminosas da natureza\, o mistério da trindade do feminino divino é ilimitado. No fundo da vastidão do universo… é onde a vai encontrar.” –Isha Lerner \nQuando pensamos em música erudita\, é natural que grandes compositores nos venham à mente. Mas\, ao longo da história\, quantas compositoras ficaram na sombra? Durante séculos\, numa sociedade moldada por padrões patriarcais\, às mulheres foi negado o espaço para criar\, sendo até propagada a ideia “científica” de que lhes faltava o pensamento abstrato necessário para a composição musical. Gerações cresceram sob essa crença\, mas algumas desafiaram o impossível e marcaram o virar do século XX com o seu talento e ousadia.\nNo recital Eterno Feminino\, damos voz a essas pioneiras\, trazendo ao palco a expressividade e a genialidade de compositoras como Alma Mahler\, Cécile Chaminade\, Pauline Viardot e Lili Boulanger. Pelas vozes de Ariana Russo e Rita Tavares\, acompanhadas ao piano por Melissa Fontoura\, revisitamos a força e a sensibilidade dessas mulheres que\, contra todas as adversidades\, escreveram o seu nome na história da música. \nFicha Artística\nAriana Moutinho-Russo\, Soprano \nRita Tavares\, Mezzo-soprano \nMelissa Fontoura\, Piano \n– \n*Bilhetes à venda na bilheteira do Pax Julia Teatro Municipal ou em www.bol.pt
URL:https://www.rpcu.pt/evento/eterno-feminino/
LOCATION:Clube para a UNESCO de Beja
CATEGORIES:Concertos,Espetáculos,Eventos
ATTACH;FMTTYPE=image/png:https://www.rpcu.pt/wp-content/uploads/2025/04/eterno-feminino.png
END:VEVENT
END:VCALENDAR