BEGIN:VCALENDAR
VERSION:2.0
PRODID:-//Rede Portuguesa de Clubes para a UNESCO - ECPv6.15.12.2//NONSGML v1.0//EN
CALSCALE:GREGORIAN
METHOD:PUBLISH
X-ORIGINAL-URL:https://www.rpcu.pt
X-WR-CALDESC:Eventos para Rede Portuguesa de Clubes para a UNESCO
REFRESH-INTERVAL;VALUE=DURATION:PT1H
X-Robots-Tag:noindex
X-PUBLISHED-TTL:PT1H
BEGIN:VTIMEZONE
TZID:UTC
BEGIN:STANDARD
TZOFFSETFROM:+0000
TZOFFSETTO:+0000
TZNAME:UTC
DTSTART:20240101T000000
END:STANDARD
END:VTIMEZONE
BEGIN:VEVENT
DTSTART;TZID=UTC:20251205T144500
DTEND;TZID=UTC:20251207T103000
DTSTAMP:20260420T082614
CREATED:20251203T173210Z
LAST-MODIFIED:20251203T173905Z
UID:16404-1764945900-1765103400@www.rpcu.pt
SUMMARY:PALCO DE TERRA - Festival de Teatro Amador do Noroeste Peninsular
DESCRIPTION:O festival PALCO DE TERRA\, dedicado ao teatro amador do Norte de Portugal e Galiza\, está de volta para a 9.ª edição\, de 5 a 7 de dezembro. \nDurante o próximo fim-de-semana\, o melhor do teatro amador do noroeste peninsular monta palco na aldeia de Balugães e na cidade de Barcelos. Promovido pela companhia Teatro de Balugas\, este ano o certame recebe três espetáculos selecionados para representar a Galiza e o Norte de Portugal\, com textos em português\, galego e mirandês. \nNa sexta-feira\, pelas 14h45\, o espetáculo infantil “O menino que às vezes era careca”\, da Companhia de Teatro de Santo Tirso\, abre a programação na Escola Primária de Balugães. O festival continua no sábado\, pelas 16h00\, no auditório da junta de freguesia\, com a comédia “Croquetas”\, pelos galegos da Agrupación Teatral Mariñán. \nNo domingo\, pelas 10h30\, os contos em mirandês\, ou “Cuontas Mirandesas”\, por Duarte Martins\, encerram o cartaz que engloba também a atribuição dos Prémios Palco de Terra\, no Salão Nobre da Câmara Municipal de Barcelos. Trata-se de galardões concedidos anualmente para reconhecer e agradecer o trabalho e o esforço de pessoas e instituições no âmbito do teatro realizado no meio rural\, e da criação artística sobre o noroeste peninsular. \nTodos os eventos do festival são de entrada livre.
URL:https://www.rpcu.pt/evento/palco-de-terra-festival-de-teatro-amador-do-noroeste-peninsular/
LOCATION:Barcelos
CATEGORIES:Espetáculos,Festival
ATTACH;FMTTYPE=image/jpeg:https://www.rpcu.pt/wp-content/uploads/2025/12/Cartaz-PALCO-DE-TERRA-2025_Teatro-de-Balugas.jpeg
ORGANIZER;CN="Teatro de Balugas/ Clube para a UNESCO para a Salvaguarda do Teatro em L%C3%ADnguas Minorit%C3%A1rias":MAILTO:gilvicenteawards@teatro-de-balugas.pt
END:VEVENT
END:VCALENDAR