BEGIN:VCALENDAR
VERSION:2.0
PRODID:-//Rede Portuguesa de Clubes para a UNESCO - ECPv6.15.12.2//NONSGML v1.0//EN
CALSCALE:GREGORIAN
METHOD:PUBLISH
X-WR-CALNAME:Rede Portuguesa de Clubes para a UNESCO
X-ORIGINAL-URL:https://www.rpcu.pt
X-WR-CALDESC:Eventos para Rede Portuguesa de Clubes para a UNESCO
REFRESH-INTERVAL;VALUE=DURATION:PT1H
X-Robots-Tag:noindex
X-PUBLISHED-TTL:PT1H
BEGIN:VTIMEZONE
TZID:UTC
BEGIN:STANDARD
TZOFFSETFROM:+0000
TZOFFSETTO:+0000
TZNAME:UTC
DTSTART:20240101T000000
END:STANDARD
END:VTIMEZONE
BEGIN:VEVENT
DTSTART;TZID=UTC:20250920T213000
DTEND;TZID=UTC:20250920T223000
DTSTAMP:20260421T193340
CREATED:20250916T111110Z
LAST-MODIFIED:20250916T111110Z
UID:15880-1758403800-1758407400@www.rpcu.pt
SUMMARY:OPGB | Nova Música | Milodnab et Sarratiub
DESCRIPTION:Esta será a última estreia\, cuja obra do compositor 𝐉𝐨𝐬é 𝐂𝐚𝐫𝐥𝐨𝐬 𝐒𝐨𝐮𝐬𝐚 se intitula “𝐌𝐢𝐥𝐨𝐝𝐧𝐚𝐛 𝐞𝐭 𝐒𝐚𝐫𝐫𝐚𝐭𝐢𝐮𝐠”. Contaremos com 𝐏𝐞𝐝𝐫𝐨 𝐇𝐞𝐧𝐫𝐢𝐪𝐮𝐞𝐬 𝐝𝐚 𝐒𝐢𝐥𝐯𝐚 como solista na guitarra portuguesa.\n\n\nDia 𝟐𝟎 𝐝𝐞 𝐒𝐞𝐭𝐞𝐦𝐛𝐫𝐨\, pelas 𝟐𝟏𝐡𝟑𝟎 no 𝐂𝐢𝐧𝐞-𝐓𝐞𝐚𝐭𝐫𝐨 𝐝𝐞 𝐄𝐬𝐭𝐚𝐫𝐫𝐞𝐣𝐚.\n\n\n“O título da obra resulta da inversão gráfica de duas palavras que\, lidas ao contrário\, revelam parte da identidade sonora e conceptual da peça: Bandolim e Guitarras.\n\n\nEsta encomenda é um reencontro afetivo com o meu próprio passado. Noutras fases da minha vida\, também toquei bandolim — e voltar a ter esse instrumento nas mãos\, depois de tantos anos\, foi uma experiência particularmente emotiva e muito prazerosa. Embora não recorra à eletrónica\, Milodnab et Sarratiug foi concebida como se de uma obra eletroacústica se tratasse. O espaço é aqui um elemento composicional fundamental. Ao longo da peça\, os músicos dispõem-se em diversas formações que circundam o público\, criando experiências auditivas imersivas e não convencionais. A habitual relação palco-plateia é quebrada; os sons deslocam-se\, aproximam-se\, afastam-se\, ecoam entre si.\n\n\nAs melodias e os motivos musicais circulam e refletem-se como num espelho: do palco para a plateia\, da frente para trás\, numa construção polifónica de camadas e texturas que se entrelaçam — às vezes de forma subtil\, outras vezes com grande densidade.\nEsta obra é dedicada à memória de um músico e professor cuja presença marcou profundamente uma geração de estudantes e intérpretes. A sua influência ajudou-me a perceber que também eu deveria seguir o caminho da Música.\n\n\nComo deixo anotado na partitura:\n𝘈 𝘭𝘶𝘻 𝘲𝘶𝘦 𝘧𝘪𝘤𝘢: 𝘌𝘮 𝘔𝘦𝘮𝘰́𝘳𝘪𝘢 𝘥𝘰 𝘑𝘰𝘳𝘨𝘦 𝘈𝘣𝘦𝘭.”\n– José Carlos Sousa
URL:https://www.rpcu.pt/evento/opgb-nova-musica-milodnab-et-sarratiub/
LOCATION:Cine-teatro de Estarreja\, Av. Visc. de Salreu\, Estarreja\, Aveiro\, 3860-389 Estarreja\, Portugal
CATEGORIES:Concertos
ATTACH;FMTTYPE=image/jpeg:https://www.rpcu.pt/wp-content/uploads/2025/09/CARTAZ_3_A3-scaled.jpg
ORGANIZER;CN="Associa%C3%A7%C3%A3o Cultural de Plectro":MAILTO:geral@acplectro.com
END:VEVENT
END:VCALENDAR