BEGIN:VCALENDAR
VERSION:2.0
PRODID:-//Rede Portuguesa de Clubes para a UNESCO - ECPv6.15.12.2//NONSGML v1.0//EN
CALSCALE:GREGORIAN
METHOD:PUBLISH
X-ORIGINAL-URL:https://www.rpcu.pt
X-WR-CALDESC:Eventos para Rede Portuguesa de Clubes para a UNESCO
REFRESH-INTERVAL;VALUE=DURATION:PT1H
X-Robots-Tag:noindex
X-PUBLISHED-TTL:PT1H
BEGIN:VTIMEZONE
TZID:UTC
BEGIN:STANDARD
TZOFFSETFROM:+0000
TZOFFSETTO:+0000
TZNAME:UTC
DTSTART:20200101T000000
END:STANDARD
END:VTIMEZONE
BEGIN:VEVENT
DTSTART;VALUE=DATE:20211203
DTEND;VALUE=DATE:20211211
DTSTAMP:20260420T101415
CREATED:20211103T150416Z
LAST-MODIFIED:20211103T150416Z
UID:13356-1638489600-1639180799@www.rpcu.pt
SUMMARY:III Semana dos Direitos Humanos
DESCRIPTION:𝑻𝒆𝒓𝒆𝒎𝒐𝒔 𝒍𝒊𝒃𝒆𝒓𝒅𝒂𝒅𝒆 𝒑𝒂𝒓𝒂 𝑬𝒔𝒄𝒐𝒍𝒉𝒆𝒓?\n\n\n\nA Semana dos Direitos Humanos está de regresso.\nÉ a partir da interrogação “Teremos liberdade para escolher?” que desenvolvemos a III edição da Semana dos Direitos Humanos\, que decorre de 3 a 10 de dezembro\, nos Açores.\n\n\nA III Semana dos Direitos Humanos reafirma-se como o espaço para criar\, admirar e refletir sobre o modo pelo qual a nossa sociedade se move\, dando voz a pensamentos e sentimentos que desencadeiam o reconhecimento da própria humanidade. Agindo territorialmente\, procuramos agitar as narrativas e perspetivas tendencialmente estereotipadas por meio de um conjunto de iniciativas em espaços geográficos descentralizados\, com sotaques\, abordagens e mensagens distintos.\n\n\nMas …\n\n\nComo defendemos a nossa liberdade?\n\n\nTerá a nossa sociedade poder de mudança?\n\n\nEstará o direito a viver na cidade assegurado a toda a população?\n\n\nTemos direito a recomeçar?\n\n\nA III Semana dos Direitos Humanos é uma iniciativa do Gabinete de Apoio a Migrantes da CRESAÇOR\, desenvolvida com o apoio do Governo dos Açores\, através da Direção Regional das Comunidades.
URL:https://www.rpcu.pt/evento/iii-semana-dos-direitos-humanos/
LOCATION:cresaçor
END:VEVENT
BEGIN:VEVENT
DTSTART;VALUE=DATE:20211203
DTEND;VALUE=DATE:20211211
DTSTAMP:20260420T101415
CREATED:20211117T124319Z
LAST-MODIFIED:20211117T124319Z
UID:13372-1638489600-1639180799@www.rpcu.pt
SUMMARY:III Semana dos Direitos Humanos
DESCRIPTION:A III Semana dos Direitos Humanos reafirma-se como o espaço para criar\, admirar e refletir sobre o modo pelo qual a nossa sociedade se move\, dando voz a pensamentos e sentimentos que desencadeiam o reconhecimento da própria humanidade. Agindo territorialmente\, procuramos agitar as narrativas e perspetivas tendencialmente estereotipadas por meio de um conjunto de iniciativas em espaços geográficos descentralizados\, com sotaques\, abordagens e mensagens distintos.\n\n\n\nMas…\n\n\n\nComo defendemos a nossa liberdade?\nTerá a nossa sociedade poder de mudança?\nEstará o direito a viver na cidade assegurado a toda a população?\nTeremos direito a recomeçar?\n\nA III Semana dos Direitos Humanos é uma iniciativa do Gabinete de Apoio a Migrantes da CRESAÇOR\, desenvolvida com o apoio do Governo dos Açores\, através da Direção regional das Comunidades.
URL:https://www.rpcu.pt/evento/iii-semana-dos-direitos-humanos-2/
LOCATION:cresaçor
END:VEVENT
END:VCALENDAR