BEGIN:VCALENDAR
VERSION:2.0
PRODID:-//Rede Portuguesa de Clubes para a UNESCO - ECPv6.15.12.2//NONSGML v1.0//EN
CALSCALE:GREGORIAN
METHOD:PUBLISH
X-WR-CALNAME:Rede Portuguesa de Clubes para a UNESCO
X-ORIGINAL-URL:https://www.rpcu.pt
X-WR-CALDESC:Eventos para Rede Portuguesa de Clubes para a UNESCO
REFRESH-INTERVAL;VALUE=DURATION:PT1H
X-Robots-Tag:noindex
X-PUBLISHED-TTL:PT1H
BEGIN:VTIMEZONE
TZID:UTC
BEGIN:STANDARD
TZOFFSETFROM:+0000
TZOFFSETTO:+0000
TZNAME:UTC
DTSTART:20200101T000000
END:STANDARD
END:VTIMEZONE
BEGIN:VEVENT
DTSTART;TZID=UTC:20211023T210000
DTEND;TZID=UTC:20211023T220000
DTSTAMP:20260421T033432
CREATED:20210928T135442Z
LAST-MODIFIED:20211021T135819Z
UID:13320-1635022800-1635026400@www.rpcu.pt
SUMMARY:I Ciclo de Música Antiga pelo Interior do Património | outubro
DESCRIPTION:O I Ciclo de Música Antiga pelo Interior do Património\, que se iniciou no passado mês de julho\, regressa em outubro para três concertos protagonizados pelo Iberian Ensemble:\n\n\n-04 out\, segunda-feira\, 21h: Mosteiro de Santo André de Ancede\, Baião;\n-15 out\, sexta-feira\, 21h: Centro Cultural Maria Amélia Laranjeira\, Amarante;\n-23 out\, sábado\, 21h: Igreja de Santo André de Vila Boa de Quires\, Marco de Canaveses.\n\n\nENTRADA LIVRE
URL:https://www.rpcu.pt/evento/concertos-de-musica-antiga-ciclo-de-outubro/
LOCATION:Lisboa
CATEGORIES:Concertos
ATTACH;FMTTYPE=image/jpeg:https://www.rpcu.pt/wp-content/uploads/2021/09/Pagina-Jornal-2º-cartaz-scaled.jpg
END:VEVENT
END:VCALENDAR